BEGIN:VCALENDAR
VERSION:2.0
PRODID:http://www.kufer.de/kuferweb / DE
METHOD:PUBLISH
CALSCALE:GREGORIAN
X-WR-TIMEZONE:Europe/Berlin
BEGIN:VTIMEZONE
TZID:Europe/Berlin
X-LIC-LOCATION:Europe/Berlin
BEGIN:DAYLIGHT
TZOFFSETFROM:+0100
TZOFFSETTO:+0200
TZNAME:CEST
DTSTART;TZID=Europe/Berlin:19700329T020000
RRULE:FREQ=YEARLY;INTERVAL=1;BYDAY=-1SU;BYMONTH=3
END:DAYLIGHT
BEGIN:STANDARD
TZOFFSETFROM:+0200
TZOFFSETTO:+0100
TZNAME:CET
DTSTART;TZID=Europe/Berlin:19701025T030000
RRULE:FREQ=YEARLY;INTERVAL=1;BYDAY=-1SU;BYMONTH=10
END:STANDARD
END:VTIMEZONE
BEGIN:VEVENT
DTSTAMP:20260421T141322
DTSTART;TZID=Europe/Berlin:20260630T103000
DTEND;TZID=Europe/Berlin:20260630T120000
UID:263-6C4-20260630T103000@FFBOCHUM
SUMMARY:PEKiP® für Juli - Sept 2025 geborene Babys Di 10.30h (263-6C4) 
LOCATION:Kursraum Glockengarten, Glockengarten 1, 44803 Bochum
END:VEVENT
BEGIN:VEVENT
DTSTAMP:20260421T141322
DTSTART;TZID=Europe/Berlin:20260707T103000
DTEND;TZID=Europe/Berlin:20260707T120000
UID:263-6C4-20260707T103000@FFBOCHUM
SUMMARY:PEKiP® für Juli - Sept 2025 geborene Babys Di 10.30h (263-6C4) 
LOCATION:Kursraum Glockengarten, Glockengarten 1, 44803 Bochum
END:VEVENT
BEGIN:VEVENT
DTSTAMP:20260421T141322
DTSTART;TZID=Europe/Berlin:20260714T103000
DTEND;TZID=Europe/Berlin:20260714T120000
UID:263-6C4-20260714T103000@FFBOCHUM
SUMMARY:PEKiP® für Juli - Sept 2025 geborene Babys Di 10.30h (263-6C4) 
LOCATION:Kursraum Glockengarten, Glockengarten 1, 44803 Bochum
END:VEVENT
BEGIN:VEVENT
DTSTAMP:20260421T141322
DTSTART;TZID=Europe/Berlin:20260721T103000
DTEND;TZID=Europe/Berlin:20260721T120000
UID:263-6C4-20260721T103000@FFBOCHUM
SUMMARY:PEKiP® für Juli - Sept 2025 geborene Babys Di 10.30h (263-6C4) 
LOCATION:Kursraum Glockengarten, Glockengarten 1, 44803 Bochum
END:VEVENT
BEGIN:VEVENT
DTSTAMP:20260421T141322
DTSTART;TZID=Europe/Berlin:20260728T103000
DTEND;TZID=Europe/Berlin:20260728T120000
UID:263-6C4-20260728T103000@FFBOCHUM
SUMMARY:PEKiP® für Juli - Sept 2025 geborene Babys Di 10.30h (263-6C4) 
LOCATION:Kursraum Glockengarten, Glockengarten 1, 44803 Bochum
END:VEVENT
BEGIN:VEVENT
DTSTAMP:20260421T141322
DTSTART;TZID=Europe/Berlin:20260804T103000
DTEND;TZID=Europe/Berlin:20260804T120000
UID:263-6C4-20260804T103000@FFBOCHUM
SUMMARY:PEKiP® für Juli - Sept 2025 geborene Babys Di 10.30h (263-6C4) 
LOCATION:Kursraum Glockengarten, Glockengarten 1, 44803 Bochum
END:VEVENT
BEGIN:VEVENT
DTSTAMP:20260421T141322
DTSTART;TZID=Europe/Berlin:20260811T103000
DTEND;TZID=Europe/Berlin:20260811T120000
UID:263-6C4-20260811T103000@FFBOCHUM
SUMMARY:PEKiP® für Juli - Sept 2025 geborene Babys Di 10.30h (263-6C4) 
LOCATION:Kursraum Glockengarten, Glockengarten 1, 44803 Bochum
END:VEVENT
END:VCALENDAR