BEGIN:VCALENDAR
VERSION:2.0
PRODID:http://www.kufer.de/kuferweb / DE
METHOD:PUBLISH
CALSCALE:GREGORIAN
X-WR-TIMEZONE:Europe/Berlin
BEGIN:VTIMEZONE
TZID:Europe/Berlin
X-LIC-LOCATION:Europe/Berlin
BEGIN:DAYLIGHT
TZOFFSETFROM:+0100
TZOFFSETTO:+0200
TZNAME:CEST
DTSTART;TZID=Europe/Berlin:19700329T020000
RRULE:FREQ=YEARLY;INTERVAL=1;BYDAY=-1SU;BYMONTH=3
END:DAYLIGHT
BEGIN:STANDARD
TZOFFSETFROM:+0200
TZOFFSETTO:+0100
TZNAME:CET
DTSTART;TZID=Europe/Berlin:19701025T030000
RRULE:FREQ=YEARLY;INTERVAL=1;BYDAY=-1SU;BYMONTH=10
END:STANDARD
END:VTIMEZONE
BEGIN:VEVENT
DTSTAMP:20260421T141547
DTSTART;TZID=Europe/Berlin:20260701T103000
DTEND;TZID=Europe/Berlin:20260701T120000
UID:263-6C6-20260701T103000@FFBOCHUM
SUMMARY:PEKiP® Oktober bis Dezember 2025 geborene Babys Mi 10.30h (263-6C6) 
LOCATION:Kursraum Glockengarten, Glockengarten 1, 44803 Bochum
END:VEVENT
BEGIN:VEVENT
DTSTAMP:20260421T141547
DTSTART;TZID=Europe/Berlin:20260708T103000
DTEND;TZID=Europe/Berlin:20260708T120000
UID:263-6C6-20260708T103000@FFBOCHUM
SUMMARY:PEKiP® Oktober bis Dezember 2025 geborene Babys Mi 10.30h (263-6C6) 
LOCATION:Kursraum Glockengarten, Glockengarten 1, 44803 Bochum
END:VEVENT
BEGIN:VEVENT
DTSTAMP:20260421T141547
DTSTART;TZID=Europe/Berlin:20260715T103000
DTEND;TZID=Europe/Berlin:20260715T120000
UID:263-6C6-20260715T103000@FFBOCHUM
SUMMARY:PEKiP® Oktober bis Dezember 2025 geborene Babys Mi 10.30h (263-6C6) 
LOCATION:Kursraum Glockengarten, Glockengarten 1, 44803 Bochum
END:VEVENT
BEGIN:VEVENT
DTSTAMP:20260421T141547
DTSTART;TZID=Europe/Berlin:20260722T103000
DTEND;TZID=Europe/Berlin:20260722T120000
UID:263-6C6-20260722T103000@FFBOCHUM
SUMMARY:PEKiP® Oktober bis Dezember 2025 geborene Babys Mi 10.30h (263-6C6) 
LOCATION:Kursraum Glockengarten, Glockengarten 1, 44803 Bochum
END:VEVENT
BEGIN:VEVENT
DTSTAMP:20260421T141547
DTSTART;TZID=Europe/Berlin:20260729T103000
DTEND;TZID=Europe/Berlin:20260729T120000
UID:263-6C6-20260729T103000@FFBOCHUM
SUMMARY:PEKiP® Oktober bis Dezember 2025 geborene Babys Mi 10.30h (263-6C6) 
LOCATION:Kursraum Glockengarten, Glockengarten 1, 44803 Bochum
END:VEVENT
BEGIN:VEVENT
DTSTAMP:20260421T141547
DTSTART;TZID=Europe/Berlin:20260805T103000
DTEND;TZID=Europe/Berlin:20260805T120000
UID:263-6C6-20260805T103000@FFBOCHUM
SUMMARY:PEKiP® Oktober bis Dezember 2025 geborene Babys Mi 10.30h (263-6C6) 
LOCATION:Kursraum Glockengarten, Glockengarten 1, 44803 Bochum
END:VEVENT
BEGIN:VEVENT
DTSTAMP:20260421T141547
DTSTART;TZID=Europe/Berlin:20260812T103000
DTEND;TZID=Europe/Berlin:20260812T120000
UID:263-6C6-20260812T103000@FFBOCHUM
SUMMARY:PEKiP® Oktober bis Dezember 2025 geborene Babys Mi 10.30h (263-6C6) 
LOCATION:Kursraum Glockengarten, Glockengarten 1, 44803 Bochum
END:VEVENT
END:VCALENDAR