BEGIN:VCALENDAR
VERSION:2.0
PRODID:http://www.kufer.de/kuferweb / DE
METHOD:PUBLISH
CALSCALE:GREGORIAN
X-WR-TIMEZONE:Europe/Berlin
BEGIN:VTIMEZONE
TZID:Europe/Berlin
X-LIC-LOCATION:Europe/Berlin
BEGIN:DAYLIGHT
TZOFFSETFROM:+0100
TZOFFSETTO:+0200
TZNAME:CEST
DTSTART;TZID=Europe/Berlin:19700329T020000
RRULE:FREQ=YEARLY;INTERVAL=1;BYDAY=-1SU;BYMONTH=3
END:DAYLIGHT
BEGIN:STANDARD
TZOFFSETFROM:+0200
TZOFFSETTO:+0100
TZNAME:CET
DTSTART;TZID=Europe/Berlin:19701025T030000
RRULE:FREQ=YEARLY;INTERVAL=1;BYDAY=-1SU;BYMONTH=10
END:STANDARD
END:VTIMEZONE
BEGIN:VEVENT
DTSTAMP:20260421T141258
DTSTART;TZID=Europe/Berlin:20260523T110000
DTEND;TZID=Europe/Berlin:20260523T120000
UID:263-6EB-20260523T110000@FFBOCHUM
SUMMARY:RambaZamba Eltern-Kind-Sport ab 3 Jahre Sa 11:00 Uhr (263-6EB) 
LOCATION:Turnhalle KAZ, Alexandrinenstr. 5, 44791 Bochum
END:VEVENT
BEGIN:VEVENT
DTSTAMP:20260421T141258
DTSTART;TZID=Europe/Berlin:20260530T110000
DTEND;TZID=Europe/Berlin:20260530T120000
UID:263-6EB-20260530T110000@FFBOCHUM
SUMMARY:RambaZamba Eltern-Kind-Sport ab 3 Jahre Sa 11:00 Uhr (263-6EB) 
LOCATION:Turnhalle KAZ, Alexandrinenstr. 5, 44791 Bochum
END:VEVENT
BEGIN:VEVENT
DTSTAMP:20260421T141258
DTSTART;TZID=Europe/Berlin:20260606T110000
DTEND;TZID=Europe/Berlin:20260606T120000
UID:263-6EB-20260606T110000@FFBOCHUM
SUMMARY:RambaZamba Eltern-Kind-Sport ab 3 Jahre Sa 11:00 Uhr (263-6EB) 
LOCATION:Turnhalle KAZ, Alexandrinenstr. 5, 44791 Bochum
END:VEVENT
BEGIN:VEVENT
DTSTAMP:20260421T141258
DTSTART;TZID=Europe/Berlin:20260613T110000
DTEND;TZID=Europe/Berlin:20260613T120000
UID:263-6EB-20260613T110000@FFBOCHUM
SUMMARY:RambaZamba Eltern-Kind-Sport ab 3 Jahre Sa 11:00 Uhr (263-6EB) 
LOCATION:Turnhalle KAZ, Alexandrinenstr. 5, 44791 Bochum
END:VEVENT
BEGIN:VEVENT
DTSTAMP:20260421T141258
DTSTART;TZID=Europe/Berlin:20260620T110000
DTEND;TZID=Europe/Berlin:20260620T120000
UID:263-6EB-20260620T110000@FFBOCHUM
SUMMARY:RambaZamba Eltern-Kind-Sport ab 3 Jahre Sa 11:00 Uhr (263-6EB) 
LOCATION:Turnhalle KAZ, Alexandrinenstr. 5, 44791 Bochum
END:VEVENT
BEGIN:VEVENT
DTSTAMP:20260421T141258
DTSTART;TZID=Europe/Berlin:20260704T110000
DTEND;TZID=Europe/Berlin:20260704T120000
UID:263-6EB-20260704T110000@FFBOCHUM
SUMMARY:RambaZamba Eltern-Kind-Sport ab 3 Jahre Sa 11:00 Uhr (263-6EB) 
LOCATION:Turnhalle KAZ, Alexandrinenstr. 5, 44791 Bochum
END:VEVENT
BEGIN:VEVENT
DTSTAMP:20260421T141258
DTSTART;TZID=Europe/Berlin:20260718T110000
DTEND;TZID=Europe/Berlin:20260718T120000
UID:263-6EB-20260718T110000@FFBOCHUM
SUMMARY:RambaZamba Eltern-Kind-Sport ab 3 Jahre Sa 11:00 Uhr (263-6EB) 
LOCATION:Turnhalle KAZ, Alexandrinenstr. 5, 44791 Bochum
END:VEVENT
END:VCALENDAR